Workbook
Name \A: Alcohol!#REF!
Name \A: Dental!#REF!
Name \A: DO!#REF!
Name \A: 'H&C'!#REF!
Name \A: HE!#REF!
Name \A: IHCIF!#REF!
Name \A: Mental!#REF!
Name \A: PHN!#REF!
Name \A: #REF!
Name \B: #REF!
Name \B: #REF!
Name \B: #REF!
Name \B: #REF!
Name \B: #REF!
Name \B: #REF!
Name \B: #REF!
Name \B: #REF!
Name _: #REF!
Name _: #REF!
Name _: #REF!
Name _: #REF!
Name _: #REF!
Name _: #REF!
Name _: #REF!
Name _: #REF!
Name _: #REF!
Name _1: #REF!
Name _1: #REF!
Name _1: #REF!
Name _1: #REF!
Name _1: #REF!
Name _1: #REF!
Name _1: #REF!
Name _1: #REF!
Name _OAD: #REF!
Name _OAD: #REF!
Name _OAD: #REF!
Name _OAD: #REF!
Name _OAD: #REF!
Name _OAD: #REF!
Name _OAD: #REF!
Name _OAD: #REF!
Name _OAD: #REF!
Name _OAD1: #REF!
Name _OAD1: #REF!
Name _OAD1: #REF!
Name _OAD1: #REF!
Name _OAD1: #REF!
Name _OAD1: #REF!
Name _OAD1: #REF!
Name _OAD1: #REF!
Name Alcohol_19: #REF!
Name Alcohol_19: #REF!
Name Alcohol_19: #REF!
Name Alcohol_19: #REF!
Name Alcohol_19: #REF!
Name Alcohol_19: #REF!
Name Alcohol_19: #REF!
Name Alcohol_19: #REF!
Name Alcohol_19: #REF!

Sheet NAO Recurring Budget
H1: TAB B | BA1: Page 1 of 9
H2: NASHVILLE AREA
H3: RECURRING BUDGET
H4: 36262 | BJ4: 10248
AY5: Page 2 of 6
B6: Rec. Base | C6: Adjust | D6: Revised | E6: 1999 | G6: Fixed Cost | H6: 1999 | I6: 1999 | J6: Revised | K6: 2000 | M6: 2000 | N6: 2000 | O6: 2001 | P6: 2001 | R6: 2002 | S6: 2002 | T6: 2002 | U6: 2003 | V6: 2003 | W6: 2003 | X6: Revised | Y6: FY 04 | Z6: FY 04 | AA6: FY 04 | AD6: FY'05 | AE6: FY'06 | AF6: FY'06 | AG6: FY'06 | AH6: Cayuga | AV6: 5743808 | AY6: 2015
A7: NAO Accounts SSA: | B7: Begin -10/1 | C7: line items | D7: 1998 Base | E7: Increases | F7: Sub-Total | G7: Workload | H7: Grand Total | I7: Adjust. | J7: Total | K7: Increases | L7: Round | M7: Area Base | N7: Adj. | O7: Incr. Pay | P7: Program | Q7: SubTotal | R7: Adjustment | S7: Increases | T7: Area Base | U7: Increases | V7: Rec. Base | W7: Adjustments | X7: 3 | Y7: Increase | Z7: rounding | AA7: Final Area | AB7: Rounding Adj. | AC7: FY'05 INCREASES | AD7: FINAL | AE7: Recurring Increases | AF7: Adjustments Due To Rounding | AG7: FINAL AS OF 04/19/2006 | AH7: And Onondaga | AI7: DFM Total | AJ7: 2007 Inflation | AK7: 2007 Paycost | AL7: 2007 Final Base | AM7: Adjust | AN7: 2008 Inflation | AO7: 2008 Paycost | AP7: 2008 Final Base | AQ7: 2009 Paycost | AR7: 2009 Inflation | AS7: 2009 Increases | AT7: Total | AU7: HIO | AV7: Training | AW7: PCS | AX7: Other | AY7: 2009 Final Budget | AZ7: adjustment | BA7: 2010 Paycost | BB7: 2010 Inflation | BC7: 2010 Subtotal Increases | BD7: New Tribes Adjustm | BE7: 2011 Total | BG7: 2011Rescission and/or Adjust 2010 | BH7: 2010 Residual Increase | BI7: 2011 Final Budget | BJ7: 2012 Rescission/ increases | BK7: 2012 Final Budget | BL7: Increase/ Decrease | BM7: Earmark Adj | BN7: Rescission | BO7: Sequestration | BP7: Summary 2013 Reduction/Inc | BQ7: 2013 Final | BR7: Increase/ Decrease | BS7: 2014 Final | BT7: Area Increases/ Decreases | BU7: Tribally AssumedArea Shares Increase/ Decrease | BV7: 2015 Final | BW7: Increase/ Decrease | BX7: Tribally AssumedArea Shares Increase/ Decrease | BY7: *Add in previous newly recognized Tribes amounts | BZ7: 2016 Final | CA7: Increase/ Decrease | CB7: Tribally AssumedArea Shares Increase/ Decrease | CC7: 2017 Final | CD7: Increase/ Decrease | CE7: Tribally AssumedArea Shares Increase/ Decrease | CF7: *Add in previous newly recognized Tribes amounts | CG7: 2018 Final | CH7: *Add in previous newly recognized Tribes amounts | CI7: 2019 Final | CJ7: *Add in previous newly recognized Tribes amounts | CK7: Increase/ Decrease | CL7: 2020 Final | CM7: 2021 Increase/ Decrease | CN7: 2021 Final | CO7: 2022 Increase/ Decrease | CP7: 2022 Final | CQ7: 2023 Increase/ Decrease | CR7: 2023 Final
A8: H&C Total | B8: 4140163 | C8: 865109 | D8: 5005272 | E8: 202876 | F8: 5208148 | G8: 0 | H8: 5208148 | I8: -33400 | J8: 5174748 | K8: 147953 | L8: -9 | M8: 5322692 | N8: 55749 | O8: 50740 | P8: 0 | Q8: 5429181 | R8: 52 | S8: 36715 | T8: 5465948 | U8: 130926 | V8: 5596874 | W8: -105620 | X8: 5491254 | Y8: 105030 | Z8: 18221 | AA8: 5614505 | AB8: -261 | AC8: 10072 | AD8: 5624316 | AE8: -18421 | AF8: -31 | AG8: 5605864 | AH8: 137944 | AI8: 5743808 | AJ8: 34712 | AK8: 159135 | AL8: 5937655 | AP8: 6025059 | AS8: 212215 | AT8: 6237274 | AU8: 162621 | AV8: 152738 | AW8: 70027 | AX8: 0 | AY8: 6622660 | BA8: 37979 | BB8: 101679 | BC8: 140327 | BE8: 6762987 | BH8: 25981 | BI8: 6788968 | BJ8: -10864 | BK8: 6778104 | BL8: -354542 | BM8: -5255 | BN8: -12712 | BO8: -315784 | BP8: -688293 | BQ8: 6089811 | BR8: -327735 | BS8: 5762076 | BT8: 0 | BU8: 4464 | BV8: 5766540 | BW8: 11553 | BX8: 23250 | BZ8: 5801343 | CA8: 27071 | CB8: 35851 | CC8: 5864265 | CD8: 21094 | CE8: 36489 | CF8: 805526 | CG8: 6727374 | CH8: 121241 | CI8: 6848615 | CJ8: 1081302 | CK8: 0 | CL8: 7929917 | CM8: 0 | CN8: =CL8+CM8 -> 7929917 | CO8: 277881 | CP8: =CN8+CO8 -> 8207798 | CQ8: ='Area Shares - by PFSA Summary'!B6+'Area Shares - by PFSA Summary'!B7+'H&C'!E83+'H&C'!F83+'H&C'!F81+'H&C'!F82+'H&C'!E82+'H&C'!E81 -> 229527.59 | CR8: =CP8+CQ8 -> 8437325.6
A9: -18452 | AY9: 0 | BP9: 0 | CP9: v
A10: Dental/PCS | B10: 152084 | C10: 0 | D10: 152084 | E10: 0 | F10: 152084 | G10: 0 | H10: 152084 | I10: 0 | J10: 152084 | K10: 0 | L10: 0 | M10: 152084 | O10: 5014 | P10: 137500 | Q10: 294598 | R10: -114845 | S10: 6158 | T10: 185911 | U10: 31984 | V10: 217895 | W10: 0 | X10: 217895 | Y10: 11706 | Z10: -4 | AA10: 229597 | AB10: 117 | AC10: 1131 | AD10: 230845 | AE10: 1935 | AF10: -99 | AG10: 232681 | AI10: 232681 | AJ10: 1008 | AK10: 2200 | AL10: 235889 | AN10: 6775 | AO10: 131 | AP10: 242795 | AQ10: 5243 | AR10: 3129 | AS10: 8372 | AT10: 251167 | AU10: 0 | AV10: 0 | AW10: 14976 | AX10: 0 | AY10: 266143 | BA10: 6854 | BB10: 4198 | BC10: 11052 | BD10: 0 | BE10: 277195 | BG10: 0 | BI10: 277194 | BJ10: -444 | BK10: 276750 | BM10: -228 | BN10: -553 | BO10: -13737 | BP10: -14518 | BQ10: 262232 | BR10: -2 | BS10: 262230 | BV10: 262230 | BW10: 1277 | BX10: 1451 | BZ10: 264958 | CA10: 2971 | CB10: 4163 | CC10: 272092 | CD10: 2782 | CE10: 4103 | CF10: 48161 | CG10: 327138 | CH10: 0 | CI10: 327138 | CJ10: 0 | CL10: 327138 | CM10: 0 | CN10: 327138 | CO10: 16775 | CP10: 343913 | CQ10: ='Area Shares - by PFSA Summary'!B45+'Area Shares - by PFSA Summary'!B46 -> 15803.066 | CR10: =CP10+CQ10 -> 359716.07
A11: Mental Health | B11: 158066 | C11: 0 | D11: 158066 | E11: 0 | F11: 158066 | G11: 0 | H11: 158066 | I11: 0 | J11: 158066 | K11: 5675 | L11: -4 | M11: 163737 | O11: 3416 | Q11: 167153 | R11: 0 | S11: 3312 | T11: 170465 | U11: 4022 | V11: 174487 | W11: 0 | X11: 174487 | Y11: 3246 | Z11: 1 | AA11: 177734 | AB11: -471 | AC11: 558 | AD11: 177821 | AE11: 1873 | AF11: 127 | AG11: 179821 | AI11: 179821 | AJ11: 884 | AK11: 1353 | AL11: 182058 | AN11: 3236 | AO11: -1970 | AP11: 183324 | AQ11: 1331 | AR11: 2374 | AS11: 3705 | AT11: 187029 | AU11: 0 | AV11: 0 | AW11: 15022 | AX11: 0 | AY11: 202051 | BA11: 1261 | BB11: 3387 | BC11: 4648 | BD11: 0 | BE11: 206699 | BG11: 0 | BI11: 206699 | BJ11: -328 | BK11: 206371 | BM11: -170 | BN11: -412 | BO11: -10244 | BP11: -10826 | BQ11: 195545 | BR11: 1 | BS11: 195546 | BV11: 195546 | BW11: 697 | BX11: 1027 | BZ11: 197270 | CA11: 963 | CB11: 1591 | CC11: 199824 | CD11: 1950 | CE11: 3031 | CF11: 19648 | CG11: 224453 | CH11: 0 | CI11: 224453 | CJ11: 0 | CL11: 224453 | CM11: 0 | CN11: 224453 | CO11: 7508 | CP11: 231961 | CQ11: ='Area Shares - by PFSA Summary'!B51+'Area Shares - by PFSA Summary'!B52 -> 7382.0945 | CR11: =CP11+CQ11 -> 239343.09
AD12: 0 | AY12: 0 | BC12: 0 | BE12: 0 | BP12: 0 | CR12: =CP12+CQ12 -> 0
A13: Total Area ASA | M13: 271398 | N13: 0 | O13: 4727 | P13: 0 | Q13: 276125 | R13: 0 | S13: 5571 | T13: 281696 | U13: 2766 | V13: 284462 | W13: 0 | X13: 284462 | Y13: 61366 | Z13: 0 | AA13: 345828 | AB13: -555 | AC13: 2160 | AD13: 347433 | AE13: 9951 | AF13: -396 | AG13: 356988 | AH13: 0 | AI13: 356988 | AJ13: 2672 | AK13: 6946 | AL13: 366606 | AP13: 491962 | AS13: 0 | AT13: 504069 | AU13: 0 | AV13: 0 | AW13: 0 | AX13: 0 | AY13: 504069 | BA13: 5573 | BB13: 12122 | BC13: 17695 | BE13: 521764 | BI13: 532186 | BJ13: -853 | BK13: 531333 | BM13: -439 | BN13: -1062 | BO13: -26375 | BP13: -27876 | BQ13: 503457 | BS13: 503456 | BV13: 503456 | BW13: 1993 | BX13: 3133 | BZ13: 508582 | CA13: 2409 | CB13: 5029 | CC13: 516020 | CD13: 4234 | CE13: 10043 | CF13: 35924 | CG13: 566221 | CH13: 0 | CI13: 566221 | CJ13: 0 | CL13: 566221 | CM13: 0 | CN13: 566221 | CO13: 23919 | CP13: 590140 | CQ13: ='Area Shares - by PFSA Summary'!B57+'Area Shares - by PFSA Summary'!B58 -> 30315.949 | CR13: =CP13+CQ13 -> 620455.95
AT14: 1687 | AY14: 1687 | BC14: 0 | BE14: 1687 | BP14: 0 | CR14: =CP14+CQ14 -> 0
A15: Public Health | B15: 50588 | C15: 0 | D15: 50588 | E15: 0 | F15: 50588 | G15: 0 | H15: 50588 | I15: 0 | J15: 50588 | K15: 0 | L15: 0 | M15: 50588 | O15: 2636 | Q15: 53224 | R15: 0 | S15: 2100 | T15: 55324 | U15: 2259 | V15: 57583 | W15: 0 | X15: 57583 | Y15: 1586 | Z15: -2 | AA15: 59167 | AB15: 602 | AD15: 59769 | AE15: 353 | AF15: -44 | AG15: 60078 | AI15: 60078 | AJ15: 201 | AK15: 141 | AL15: 60420 | AN15: 1629 | AO15: -530 | AP15: 61519 | AQ15: 0 | AR15: 723 | AS15: 723 | AT15: 62242 | AU15: 0 | AV15: 0 | AW15: 0 | AX15: 0 | AY15: 62242 | BB15: 1105 | BC15: 1105 | BE15: 63347 | BG15: -166 | BI15: 63181 | BJ15: -100 | BK15: 63081 | BM15: -52 | BN15: -126 | BO15: -3134 | BP15: -3312 | BQ15: 59769 | BS15: 59769 | BT15: 5 | BV15: 59774 | BW15: 547 | BX15: 339 | BZ15: 60660 | CA15: 936 | CB15: 836 | CC15: 62432 | CD15: 1154 | CE15: 992 | CF15: 30543 | CG15: 95121 | CH15: 0 | CI15: 95121 | CJ15: 0 | CL15: 95121 | CM15: 0 | CN15: 95121 | CO15: 4900 | CP15: 100021 | CQ15: ='Area Shares - by PFSA Summary'!B63+'Area Shares - by PFSA Summary'!B64 -> 2515.0916 | CR15: =CP15+CQ15 -> 102536.09
A16: Health Education | B16: 77702 | C16: 0 | D16: 77702 | E16: 0 | F16: 77702 | G16: 0 | H16: 77702 | I16: 0 | J16: 77702 | K16: 1744 | L16: 0 | M16: 79446 | O16: 4640 | Q16: 84086 | R16: 0 | S16: 5220 | T16: 89306 | U16: 7228 | V16: 96534 | W16: 0 | X16: 96534 | Y16: 2572 | Z16: 42 | AA16: 99148 | AB16: -200 | AC16: 172 | AD16: 99120 | AE16: 2769 | AF16: 274 | AG16: 102163 | AI16: 102163 | AJ16: 594 | AK16: 2548 | AL16: 105305 | AN16: 2099 | AO16: 1442 | AP16: 108846 | AQ16: 3564 | AR16: 1611 | AS16: 5175 | AT16: 114021 | AU16: 0 | AV16: 0 | AW16: 0 | AX16: 0 | AY16: 114021 | BA16: 1581 | BB16: 2792 | BC16: 4373 | BE16: 118394 | BG16: -250 | BI16: 118142 | BJ16: -189 | BK16: 117953 | BM16: -97 | BN16: -236 | BO16: -5860 | BP16: -6193 | BQ16: 111760 | BR16: 1 | BS16: 111761 | BT16: 1 | BV16: 111762 | BW16: 417 | BX16: 668 | BZ16: 112847 | CA16: 933 | CB16: 1792 | CC16: 115572 | CD16: 411 | CE16: 861 | CF16: 13555 | CG16: 130399 | CH16: 0 | CI16: 130399 | CJ16: 0 | CL16: 130399 | CM16: 0 | CN16: 130399 | CO16: 14958 | CP16: 145357 | CQ16: ='Area Shares - by PFSA Summary'!B69+'Area Shares - by PFSA Summary'!B70 -> 3721.8752 | CR16: =CP16+CQ16 -> 149078.88
A17: Environmental Hlth. 1/ | B17: 1973355 | C17: 20000 | D17: 1993355 | E17: 0 | F17: 1993355 | G17: 13000 | H17: 2006355 | I17: 0 | J17: 2006355 | K17: 68042 | L17: 0 | M17: 2074397 | N17: 41999 | O17: 59469 | Q17: 2175865 | R17: 0 | S17: 89381 | T17: 2265246 | U17: 60503 | V17: 2325749 | W17: 0 | X17: 2325749 | Y17: 33300 | AA17: 2359049 | AB17: -14 | AC17: 7219 | AD17: 2366254 | AE17: 0 | AF17: 0 | AG17: 2366254 | AI17: 2366254 | AJ17: 15602 | AK17: 72887 | AL17: 2454743 | AM17: -15986 | AN17: 48784 | AO17: 8269 | AP17: 2495810 | AQ17: 63460 | AR17: 15527 | AS17: 78987 | AT17: 2574797 | AU17: 0 | AV17: 0 | AW17: 0 | AX17: 0 | AY17: 2574797 | BA17: 47848 | BB17: 1913 | BC17: 49761 | BE17: 2624558 | BF17: 11 | BG17: -6129 | BH17: 6790 | BI17: 2625230 | BJ17: -5056 | BK17: 2620624 | BL17: -1307 | BN17: -6302 | BO17: -158072 | BP17: -137133 | BQ17: 2483491 | BR17: 142451 | BS17: 2625942 | BT17: 195326 | BV17: 2821268 | BW17: 35631 | BZ17: 2856899 | CA17: 50153 | CC17: 2907052 | CD17: 69336 | CE17: 0 | CF17: 6000 | CG17: 2982388 | CH17: 0 | CI17: 2982388 | CJ17: 0 | CK17: 80563 | CL17: 3062951 | CM17: 0 | CN17: =CL17+CM17 -> 3062951 | CO17: 105018 | CP17: =CN17+CO17 -> 3167969 | CQ17: 106080 | CR17: =CP17+CQ17 -> 3274049
A18: Facilities Support | B18: 79495 | C18: 0 | D18: 79495 | E18: 0 | F18: 79495 | G18: 11000 | H18: 90495 | I18: 0 | J18: 90495 | K18: 3175 | L18: 0 | M18: 93670 | N18: 470 | O18: 3053 | P18: 77400 | Q18: 174593 | R18: 0 | S18: 8504 | T18: 183097 | U18: 5445 | V18: 188542 | W18: 0 | X18: 188542 | Y18: 1587 | Z18: 3950 | AA18: 194079 | AD18: 194079 | AE18: 0 | AF18: 0 | AG18: 194079 | AI18: 194079 | AJ18: 8139 | AK18: 3912 | AL18: 206130 | AM18: 462 | AO18: 4117 | AP18: 210709 | AQ18: 8206 | AS18: 8206 | AT18: 218915 | AU18: 0 | AV18: 0 | AW18: 0 | AX18: 0 | AY18: 218915 | BA18: 5832 | BC18: 5832 | BE18: 224747 | BF18: -3443 | BG18: -462 | BH18: 1481 | BI18: 222323 | BJ18: 148972 | BK18: 371295 | BL18: -372 | BN18: -742 | BO18: -18606 | BP18: -19720 | BQ18: 351575 | BR18: 43901 | BS18: 395476 | BV18: 395476 | BW18: 2879 | BZ18: 398355 | CA18: 4432 | CC18: 402787 | CD18: 5560 | CF18: 0 | CG18: 408347 | CH18: 0 | CI18: 408347 | CJ18: 0 | CK18: 6330 | CL18: 414677 | CM18: 0 | CN18: =CL18+CM18 -> 414677 | CO18: 12065 | CP18: =CN18+CO18 -> 426742 | CQ18: 12628 | CR18: =CP18+CQ18 -> 439370
A19: Direct Operations | B19: 1369700 | C19: 0 | D19: 1369700 | E19: 0 | F19: 1369700 | G19: 0 | H19: 1369700 | I19: 55900 | J19: 1425600 | K19: 48800 | L19: 0 | M19: 1474400 | O19: 37785 | Q19: 1512185 | R19: 0 | S19: 47682 | T19: 1559867 | U19: 28130 | V19: 1587997 | W19: 0 | X19: 1587997 | Y19: 2016 | AA19: 1590013 | AB19: -13 | AC19: 6574 | AD19: 1596574 | AE19: 3920 | AF19: 226 | AG19: 1600720 | AI19: 1600720 | AJ19: 4022 | AK19: 20190 | AL19: 1624932 | AM19: 2605 | AN19: -7401 | AO19: -9235 | AP19: 1610901 | AQ19: 51472 | AR19: 8760 | AS19: 60232 | AT19: 1671133 | AU19: 0 | AV19: 0 | AW19: 0 | AX19: 0 | AY19: 1671133 | BA19: 25096 | BB19: 851 | BC19: 25947 | BD19: 40919 | BE19: 1737999 | BG19: -3502 | BH19: 13033 | BI19: 1747528 | BJ19: -2796 | BK19: 1744732 | BM19: -1441 | BN19: -3486 | BO19: -86613 | BP19: -91540 | BQ19: 1653192 | BR19: -1 | BS19: 1653191 | BV19: 1653191 | BW19: 5755 | BX19: 5135 | BY19: 102000 | BZ19: 1766081 | CA19: 17228 | CB19: 22815 | CC19: 1806124 | CD19: 11739 | CE19: 8963 | CF19: 0 | CG19: 1826826 | CH19: 0 | CI19: 1826826 | CJ19: 0 | CL19: 1826826 | CM19: 0 | CN19: 1826826 | CO19: 88018 | CP19: 1914844 | CQ19: ='Area Shares - by PFSA Summary'!B75+'Area Shares - by PFSA Summary'!B76+DO!E83+DO!F83+163000 -> 272380.04 | CR19: =CP19+CQ19 -> 2187224
A20: Indian Health Care Improvement Fund | CR20: 1784884
A21: Contract Health | B21: 0 | C21: 0 | D21: 0 | E21: 0 | F21: 0 | G21: 0 | H21: 0 | I21: 195050 | J21: 195050 | K21: 0 | L21: 0 | M21: 195050 | N21: -195050 | Q21: 0 | T21: 0 | V21: 0 | X21: 0 | AA21: 0 | AB21: 0 | AD21: 0 | AE21: 0 | AF21: 0 | AG21: 0 | AI21: 0 | AJ21: 0 | AK21: 0 | AL21: 0 | AM21: 7 | AN21: -7 | AP21: 0 | AS21: 0 | AT21: 0 | AU21: 0 | AV21: 0 | AW21: 0 | AX21: 0 | AY21: 0 | BC21: 0 | BE21: 0 | BI21: 0 | BK21: 0 | BP21: 0 | BQ21: 0 | BS21: 0 | BV21: 0 | BZ21: 0 | CC21: 0 | CG21: 0 | CI21: 0 | CL21: 0 | CR21: =CP21+CQ21 -> 0
A22: Urban /2 | B22: 3300 | C22: 500 | D22: 3800 | E22: 0 | F22: 3800 | G22: 0 | H22: 3800 | J22: 3800 | K22: 0 | L22: 0 | M22: 3800 | Q22: 3800 | R22: 25 | T22: 3825 | V22: 3825 | W22: 0 | X22: 3825 | AA22: 3825 | AB22: -488 | AD22: 3337 | AE22: 0 | AF22: 111 | AG22: 3448 | AI22: 3448 | AL22: 3448 | AO22: -53 | AP22: 3395 | AS22: 0 | AT22: 3395 | AU22: 0 | AV22: 0 | AW22: 0 | AX22: 0 | AY22: 3395 | BC22: 0 | BE22: 3395 | BF22: -5 | BI22: 3390 | BJ22: -5 | BK22: 3385 | BL22: 27039 | BM22: -25 | BN22: -60 | BO22: -1510 | BP22: 25444 | BQ22: 28829 | BR22: -1 | BS22: 28828 | BV22: 28828 | BZ22: 28828 | CC22: 28828 | CD22: 0 | CF22: 0 | CG22: 28828 | CH22: 0 | CI22: 28828 | CJ22: 0 | CL22: 28828 | CM22: 0 | CN22: 28828 | CO22: 0 | CP22: 28828 | CQ22: 0 | CR22: =CP22+CQ22 -> 28828
A23: Total Area Operating Budget | B23: 8275851 | C23: 885609 | D23: 9161460 | E23: 202876 | F23: 9364336 | G23: 24000 | H23: 9388336 | I23: 217550 | J23: 9605886 | K23: 275389 | L23: -13 | M23: 9881262 | N23: -96832 | O23: 171480 | P23: 214900 | Q23: 10170810 | R23: -114768 | S23: 204643 | T23: 10260685 | U23: 273263 | V23: 10533948 | W23: -105620 | X23: 10428328 | Y23: 222409 | Z23: 22208 | AA23: 10672945 | AB23: -1283 | AC23: 27886 | AD23: 10699548 | AE23: 2380 | AF23: 168 | AG23: 10702096 | AH23: 137944 | AI23: 10840040 | AJ23: 67834 | AK23: 269312 | AL23: 11177186 | AP23: 11434320 | AQ23: 133276 | AR23: 32124 | AS23: 377615 | AT23: 11825729 | AU23: 162621 | AV23: 152738 | AW23: 100025 | AX23: 0 | AY23: 12241113 | BA23: 132024 | BB23: 128047 | BC23: 260740 | BE23: 12542772 | BG23: -10509 | BH23: 21304 | BI23: 12584841 | BJ23: 128337 | BK23: 12713628 | BL23: -329182 | BM23: -7707 | BN23: -25691 | BO23: -639935 | BP23: -1002515 | BQ23: 11711113 | BS23: 11598275 | BT23: 195332 | BU23: 4464 | BV23: 11798071 | BW23: 60749 | BX23: 35003 | BY23: 102000 | BZ23: 11995823 | CA23: 107096 | CB23: 72077 | CC23: 12174996 | CD23: 118260 | CE23: 64482 | CF23: 959357 | CG23: 13317095 | CH23: 121241 | CI23: 13438336 | CJ23: 1081302 | CK23: =SUM(CK8:CK22) -> 86893 | CL23: =CI23+CJ23+CK23 -> 14606531 | CM23: 0 | CN23: =SUM(CN8:CN22) -> 14606531 | CO23: =SUM(CO8:CO22) -> 551042 | CP23: =SUM(CP8:CP22) -> 15157573 | CQ23: =SUM(CQ8:CQ22) -> 680353.7 | CR23: =SUM(CR8:CR22) -> 17622811
A25: TOTAL | X25: 10428328 | Y25: 222409 | Z25: 22208 | AA25: 10672945 | AB25: -1283 | AC25: 27886 | AD25: 10699548 | AE25: 2380 | AF25: 168 | AG25: 10702096 | AH25: 137944 | AI25: 10840040 | AJ25: 67834 | AK25: 269312 | AL25: 11177186 | AP25: 11434320 | AQ25: 133276 | AR25: 32124 | AS25: 377615 | AT25: 11825729 | AU25: 162621 | AV25: 152738 | AW25: 100025 | AX25: 0 | AY25: 12241113 | CP25: *added IHCIF in to Recurring Base in 2023
AO26: adjustment 2010 | BS26: *New Tribes funding requests are processed in accordance with the IHM Part 6 Chapter 4, including specific calculations for residual funding request for both Area and HQ. All Newly Recognized Tribes who have received funding within the Nashville Area (Tonawanda, Tuscararora, Mashpee, Shinnecock) have also included additional residual totals consistent with IHM Part 6 Chapter 4. These figures are not included in the pre-FY2017 data above. Total amounts are added in to the total in FY2018 and will be included in reporting going forward.
AN27: 57072 | AO27: 57053 | AY27: 165400
AM28: 6600 | AO28: 57072
AO29: 19
BX32: This workbook shows only Area level funding.
V35: 1960292
V36: -1960292 | AA36: 10810899
AA37: -116638 | AU37: Onondaga | AV37: combined;
AA38: -21308 | AU38: Cayuga | AV38: -137946
AA39: 10672953
A40: NOTES: | AA40: 108177 | AU40: cert
A41: Tribally Assumed Area Shares Increase/Decrease FY'15 and 16 | AA41: 10781130 | BS41: The $4,464 is Pay cost.
AA42: 10781122
AA43: 8 | AJ43: 5449
AJ44: 29262
AJ45: 1008
...

Sheet H&C
B1: H&C
E2: 321333 | F2: =2470437+195160 -> 2665597
B3: =Dental!B3 -> FUNDING SOURCE: 75 23/24 0390
A4: LEVEL | B4: LOCATION | C4: BEGINNING BASE | E4: =Dental!E4 -> INFLATION INCREASE | F4: =Dental!F4 -> PAY COST INCREASE | G4: ENDING BASE
A5: TI | B5: Ala. Coushatta | C5: 1025628 | D5: =C5/$C$84 -> 0.011001838 | E5: =$E$2*D5 -> 3535.2537 | F5: 36129 | G5: =C5+E5+F5 -> 1065292.3
A6: TI | B6: Ala. Coushatta AS | C6: 65865 | D6: =C6/$C$84 -> 0.00070652915 | E6: =$E$2*D6 -> 227.03113 | F6: 1135 | G6: =C6+E6+F6 -> 67227.031
A7: TI | B7: Cayuga | C7: 57144 | D7: =C7/$C$84 -> 0.0006129796 | E7: =$E$2*D7 -> 196.97058 | F7: 2014 | G7: =C7+E7+F7 -> 59354.971
A8: TI | B8: Cayuga AS | C8: 20768 | D8: =C8/$C$84 -> 0.00022277685 | E8: =$E$2*D8 -> 71.585554 | F8: 358 | G8: =C8+E8+F8 -> 21197.586
A9: TV | B9: Cherokee | C9: 10811589 | D9: =C9/$C$84 -> 0.11597514 | E9: =$E$2*D9 -> 37266.641 | F9: 380849 | G9: =C9+E9+F9 -> 11229705
A10: TV | B10: Cherokee AS | C10: 852684 | D10: =C10/$C$84 -> 0.0091466803 | E10: =$E$2*D10 -> 2939.1302 | F10: 30037 | G10: =C10+E10+F10 -> 885660.13
A11: TV | B11: Chitimacha | C11: 237282 | D11: =C11/$C$84 -> 0.0025453071 | E11: =$E$2*D11 -> 817.89115 | F11: 8358 | G11: =C11+E11+F11 -> 246457.89
A12: TV | B12: Chitimacha AS | C12: 52558 | D12: =C12/$C$84 -> 0.00056378591 | E12: =$E$2*D12 -> 181.16302 | F12: 1851 | G12: =C12+E12+F12 -> 54590.163
A13: TV | B13: Choctaw | C13: 25268422 | D13: =C13/$C$84 -> 0.27105256 | E13: =$E$2*D13 -> 87098.131 | F13: 890106 | G13: =C13+E13+F13 -> 26245626
A14: TV | B14: Choctaw AS | C14: 717826 | D14: =C14/$C$84 -> 0.0077000682 | E14: =$E$2*D14 -> 2474.286 | F14: 25286 | G14: =C14+E14+F14 -> 745586.29
A15: TI | B15: Coushatta | C15: 448911 | D15: =C15/$C$84 -> 0.0048154362 | E15: =$E$2*D15 -> 1547.3586 | F15: 15813 | G15: =C15+E15+F15 -> 466271.36
A16: TI | B16: Coushatta AS | C16: 40784 | D16: =C16/$C$84 -> 0.00043748705 | E16: =$E$2*D16 -> 140.57903 | F16: 703 | G16: =C16+E16+F16 -> 41627.579
... A27: TI | B27: Oneida | C27: 2382496 | D27: =C27/$C$84 -> 0.025556864 | E27: =$E$2*D27 -> 8212.2639 | F27: 83926 | G27: =C27+E27+F27 -> 2474634.3
A28: TI | B28: Oneida AS | C28: 130702 | D28: =C28/$C$84 -> 0.001402031 | E28: =$E$2*D28+1 -> 451.51883 | F28: 2278 | G28: =C28+E28+F28 -> 133431.52
A29: TI | B29: PIT | C29: 1002795 | D29: =C29/$C$84 -> 0.01075691 | E29: =$E$2*D29 -> 3456.5503 | F29: 35324 | G29: =C29+E29+F29 -> 1041575.6
A30: TI | B30: PIT AS | C30: 86197 | D30: =C30/$C$84 -> 0.00092462906 | E30: =$E$2*D30 -> 297.11383 | F30: 1485 | G30: =C30+E30+F30 -> 87979.114
A31: TI | B31: PPP | C31: 1435164 | D31: =C31/$C$84 -> 0.015394902 | E31: =$E$2*D31 -> 4946.8899 | F31: 50555 | G31: =C31+E31+F31 -> 1490665.9
A32: TI | B32: PPP AS | C32: 115718 | D32: =C32/$C$84 -> 0.0012412987 | E32: =$E$2*D32 -> 398.87024 | F32: 1994 | G32: =C32+E32+F32 -> 118110.87
A33: TV | B33: Penobscot | C33: 1273073 | D33: =C33/$C$84 -> 0.013656163 | E33: =$E$2*D33 -> 4388.1759 | F33: 44845 | G33: =C33+E33+F33 -> 1322306.2
A34: TV | B34: Penobscot AS | C34: 256276 | D34: =C34/$C$84 -> 0.0027490543 | E34: =$E$2*D34 -> 883.36188 | F34: 9028 | G34: =C34+E34+F34 -> 266187.36
A35: TV | B35: Pequot | C35: 1114756 | D35: =C35/$C$84 -> 0.011957908 | E35: =$E$2*D35 -> 3842.4704 | F35: 39268 | G35: =C35+E35+F35 -> 1157866.5
A36: TV | B36: Pequot AS | C36: 61829 | D36: =C36/$C$84 -> 0.00066323527 | E36: =$E$2*D36 -> 213.11938 | F36: 1065 | G36: =C36+E36+F36 -> 63107.119
A37: TV | B37: Poarch Creek | C37: 1555169 | D37: =C37/$C$84 -> 0.016682187 | E37: =$E$2*D37 -> 5360.5371 | F37: 54782 | G37: =C37+E37+F37 -> 1615311.5
A38: TV | B38: Poarch Creek AS | C38: 165144 | D38: =C38/$C$84 -> 0.0017714879 | E38: =$E$2*D38 -> 569.23752 | F38: 5817 | G38: =C38+E38+F38 -> 171530.24
A39: TV | B39: Seminole | C39: 2415296 | D39: =C39/$C$84 -> 0.025908708 | E39: =$E$2*D39 -> 8325.3227 | F39: 85081 | G39: =C39+E39+F39 -> 2508702.3
A40: TV | B40: Seminole AS | C40: 314358 | D40: =C40/$C$84 -> 0.0033720958 | E40: =$E$2*D40 -> 1083.5657 | F40: 11074 | G40: =C40+E40+F40 -> 326515.57
... A51: SU | B51: Unity | C51: 156230 | D51: =C51/$C$84 -> 0.001675868 | E51: =$E$2*D51 -> 538.51171 | F51: 141 | G51: =C51+E51+F51 -> 156909.51
A52: SU | B52: Unity AS | C52: 0 | D52: =C52/$C$84 -> 0 | E52: =$E$2*D52 -> 0 | F52: =C52+E52 -> 0 | G52: =C52+E52+F52 -> 0
A53: SU | B53: Catawba | C53: 2478453 | D53: =C53/$C$84 -> 0.026586188 | E53: =$E$2*D53 -> 8543.0196 | F53: 36360 | G53: =C53+E53+F53 -> 2523356
A54: SU | B54: Catawba AS | C54: 111149 | D54: =C54/$C$84 -> 0.0011922874 | E54: =$E$2*D54 -> 383.12128 | F54: 1915 | G54: =C54+E54+F54 -> 113447.12
A55: SU | B55: Onondaga | C55: 546300 | D55: =C55/$C$84 -> 0.0058601211 | E55: =$E$2*D55 -> 1883.0503 | F55: 3296 | G55: =C55+E55+F55 -> 551479.05
A56: SU | B56: Onondaga AS | C56: 113683 | D56: =C56/$C$84 -> 0.0012194694 | E56: =$E$2*D56 -> 391.85577 | F56: 1959 | G56: =C56+E56+F56 -> 116033.86
A57: TI | B57: USET | C57: 460083 | D57: =C57/$C$84 -> 0.0049352775 | E57: =$E$2*D57 -> 1585.8675 | F57: 16207 | G57: =C57+E57+F57 -> 477875.87
A58: TI | B58: USET AS | C58: 0 | D58: =C58/$C$84 -> 0 | E58: =$E$2*D58 -> 0 | F58: 0 | G58: =C58+E58+F58 -> 0
A59: SU | B59: Mashpee | C59: 1656198 | D59: =C59/$C$84 -> 0.017765918 | E59: =$E$2*D59 -> 5708.7756 | F59: 14591 | G59: =C59+E59+F59 -> 1676497.8
A60: SU | B60: Mashpee AS | C60: 205265 | D60: =C60/$C$84 -> 0.002201863 | E60: =$E$2*D60 -> 707.53124 | F60: 3536 | G60: =C60+E60+F60 -> 209508.53
...

Sheet Dental
B1: DENTAL
E2: 17783 | F2: =14157+175532 -> 189689
B3: FUNDING SOURCE: 75 23/24 0390
A4: LEVEL | B4: LOCATION | C4: BEGINNING BASE | E4: INFLATION INCREASE | F4: PAY COST INCREASE | G4: ENDING BASE
A5: TI | B5: Ala. Coushatta | C5: 9125 | D5: =C5/$C$84 -> 0.0013623348 | E5: =$E$2*D5 -> 24.226399 | F5: 267 | G5: =C5+E5+F5 -> 9416.2264
A6: TI | B6: Ala. Coushatta AS | C6: 5626 | D6: =C6/$C$84 -> 0.0008399447 | E6: =$E$2*D6 -> 14.936737 | F6: 368 | G6: =C6+E6+F6 -> 6008.9367
A7: TI | B7: Cayuga | C7: 843 | D7: =C7/$C$84 -> 0.00012585734 | E7: =$E$2*D7+1 -> 3.238121 | F7: 25 | G7: =C7+E7+F7 -> 871.23812
A8: TI | B8: Cayuga AS | C8: 0 | D8: =C8/$C$84 -> 0 | E8: =$E$2*D8 -> 0 | F8: 0 | G8: =C8+E8+F8 -> 0
A9: TV | B9: Cherokee | C9: 925284 | D9: =C9/$C$84 -> 0.13814209 | E9: =$E$2*D9 -> 2456.5808 | F9: 27087 | G9: =C9+E9+F9 -> 954827.58
A10: TV | B10: Cherokee AS | C10: 55881 | D10: =C10/$C$84 -> 0.0083428635 | E10: =$E$2*D10 -> 148.36114 | F10: 1636 | G10: =C10+E10+F10 -> 57665.361
A11: TV | B11: Chitimacha | C11: 10069 | D11: =C11/$C$84 -> 0.0015032711 | E11: =$E$2*D11 -> 26.73267 | F11: 295 | G11: =C11+E11+F11 -> 10390.733
A12: TV | B12: Chitimacha AS | C12: 3450 | D12: =C12/$C$84 -> 0.00051507451 | E12: =$E$2*D12 -> 9.1595701 | F12: 101 | G12: =C12+E12+F12 -> 3560.1596
A13: TV | B13: Choctaw | C13: 4006833 | D13: =C13/$C$84 -> 0.59820799 | E13: =$E$2*D13 -> 10637.933 | F13: 117300 | G13: =C13+E13+F13 -> 4134770.9
A14: TV | B14: Choctaw AS | C14: 47194 | D14: =C14/$C$84 -> 0.0070459208 | E14: =$E$2*D14 -> 125.29761 | F14: 1382 | G14: =C14+E14+F14 -> 48701.298
A15: TI | B15: Coushatta | C15: 4004 | D15: =C15/$C$84 -> 0.00059778503 | E15: =$E$2*D15 -> 10.630411 | F15: 117 | G15: =C15+E15+F15 -> 4131.6304
A16: TI | B16: Coushatta AS | C16: 3483 | D16: =C16/$C$84 -> 0.00052000131 | E16: =$E$2*D16 -> 9.2471834 | F16: 228 | G16: =C16+E16+F16 -> 3720.2472
A17: TI | B17: Jena Band | C17: 1186 | D17: =C17/$C$84 -> 0.0001770662 | E17: =$E$2*D17+1 -> 4.1487682 | F17: 35 | G17: =C17+E17+F17 -> 1225.1488
A18: TI | B18: Jena Band AS | C18: 1052 | D18: =C18/$C$84 -> 0.0001570604 | E18: =$E$2*D18 -> 2.7930051 | F18: 69 | G18: =C18+E18+F18 -> 1123.793
A19: TI | B19: Maliseets | C19: 3653 | D19: =C19/$C$84 -> 0.0005453818 | E19: =$E$2*D19 -> 9.6985245 | F19: 107 | G19: =C19+E19+F19 -> 3769.6985
A20: TI | B20: Maliseets AS | C20: 4374 | D20: =C20/$C$84 -> 0.00065302491 | E20: =$E$2*D20 -> 11.612742 | F20: 286 | G20: =C20+E20+F20 -> 4671.6127
A21: TI | B21: Miccosukee | C21: 7689 | D21: =C21/$C$84 -> 0.0011479443 | E21: =$E$2*D21 -> 20.413894 | F21: 225 | G21: =C21+E21+F21 -> 7934.4139
A22: TI | B22: Miccosukee AS | C22: 6456 | D22: =C22/$C$84 -> 0.00096386118 | E22: =$E$2*D22 -> 17.140343 | F22: 422 | G22: =C22+E22+F22 -> 6895.1403
A23: TV | B23: Mohegan | C23: 9582 | D23: =C23/$C$84 -> 0.0014305635 | E23: =$E$2*D23 -> 25.43971 | F23: 281 | G23: =C23+E23+F23 -> 9888.4397
A24: TV | B24: Mohegan AS | C24: 6339 | D24: =C24/$C$84 -> 0.00094639343 | E24: =$E$2*D24 -> 16.829714 | F24: 186 | G24: =C24+E24+F24 -> 6541.8297
A25: TI | B25: Narragansett | C25: 5821 | D25: =C25/$C$84 -> 0.00086905761 | E25: =$E$2*D25 -> 15.454451 | F25: 170 | G25: =C25+E25+F25 -> 6006.4545
A26: TI | B26: Narragansett AS | C26: 6399 | D26: =C26/$C$84 -> 0.00095535125 | E26: =$E$2*D26 -> 16.989011 | F26: 419 | G26: =C26+E26+F26 -> 6834.989
A27: TI | B27: Oneida | C27: 124149 | D27: =C27/$C$84 -> 0.018535068 | E27: =$E$2*D27 -> 329.60912 | F27: 3634 | G27: =C27+E27+F27 -> 128112.61
A28: TI | B28: Oneida AS | C28: 11163 | D28: =C28/$C$84 -> 0.001666602 | E28: =$E$2*D28 -> 29.637183 | F28: 730 | G28: =C28+E28+F28 -> 11922.637
A29: TI | B29: PIT | C29: 83163 | D29: =C29/$C$84 -> 0.012415983 | E29: =$E$2*D29 -> 220.79343 | F29: 2435 | G29: =C29+E29+F29 -> 85818.793
... A50: TV | B50: Aquinnah AS | C50: 2357 | D50: =C50/$C$84 -> 0.00035189294 | E50: =$E$2*D50 -> 6.2577121 | F50: 69 | G50: =C50+E50+F50 -> 2432.2577
A51: SU | B51: Unity | C51: 0 | D51: =C51/$C$84 -> 0 | E51: =$E$2*D51 -> 0
A52: SU | B52: Unity AS | C52: 0 | D52: =C52/$C$84 -> 0 | E52: =$E$2*D52 -> 0
A53: SU | B53: Catawba | C53: 9793 | D53: =C53/$C$84 -> 0.0014620651 | E53: =$E$2*D53 -> 25.999904 | F53: 56 | G53: =C53+E53+F53 -> 9874.9999
A54: SU | B54: Catawba AS | C54: 9493 | D54: =C54/$C$84 -> 0.001417276 | E54: =$E$2*D54 -> 25.20342 | F54: 621 | G54: =C54+E54+F54 -> 10139.203
A55: SU | B55: Onondaga | C55: 2849 | D55: =C55/$C$84 -> 0.00042534704 | E55: =$E$2*D55 -> 7.5639464 | F55: 0 | G55: =C55+E55+F55 -> 2856.5639
A56: SU | B56: Onondaga AS | C56: 0 | D56: =C56/$C$84 -> 0 | E56: =$E$2*D56 -> 0
A57: TI | B57: USET | C57: 0 | D57: =C57/$C$84 -> 0 | E57: =$E$2*D57 -> 0
A58: TI | B58: USET AS | C58: 0 | D58: =C58/$C$84 -> 0 | E58: =$E$2*D58 -> 0
A59: SU | B59: Mashpee | C59: 123230 | D59: =C59/$C$84 -> 0.018397864 | E59: =$E$2*D59 -> 327.16922 | F59: 2466 | G59: =C59+E59+F59 -> 126023.17
A60: SU | B60: Mashpee AS | C60: 12094 | D60: =C60/$C$84 -> 0.0018055974 | E60: =$E$2*D60 -> 32.108939 | F60: 791 | G60: =C60+E60+F60 -> 12917.109
...

Sheet Mental
B1: MENTAL
E2: 7922 | F2: =55579+4602 -> 60181
B3: =Dental!B3 -> FUNDING SOURCE: 75 23/24 0390
A4: LEVEL | B4: LOCATION | C4: BEGINNING BASE | E4: =Dental!E4 -> INFLATION INCREASE | F4: =Dental!F4 -> PAY COST INCREASE | G4: ENDING BASE
A5: TI | B5: Ala. Coushatta | C5: 3802 | D5: =C5/$C$86 -> 0.0014153913 | E5: =$E$2*D5 -> 11.21273 | F5: 89 | G5: =C5+E5+F5 -> 3902.2127
A6: TI | B6: Ala. Coushatta AS | C6: 4303 | D6: =C6/$C$86 -> 0.0016019013 | E6: =$E$2*D6 -> 12.690262 | F6: 167 | G6: =C6+E6+F6 -> 4482.6903
A7: TI | B7: Cayuga | C7: 393 | D7: =C7/$C$86 -> 0.00014630425 | E7: =$E$2*D7 -> 1.1590223 | F7: 10 | G7: =C7+E7+F7 -> 404.15902
A8: TI | B8: Cayuga AS | C8: 0 | D8: =C8/$C$86 -> 0 | E8: =$E$2*D8 -> 0 | F8: =C8+E8 -> 0
A9: TV | B9: Cherokee | C9: 413141 | D9: =C9/$C$86 -> 0.15380225 | E9: =$E$2*D9 -> 1218.4215 | F9: 9693 | G9: =C9+E9+F9 -> 424052.42
A10: TV | B10: Cherokee AS | C10: 39959 | D10: =C10/$C$86 -> 0.014875755 | E10: =$E$2*D10 -> 117.84573 | F10: 937 | G10: =C10+E10+F10 -> 41013.846
A11: TV | B11: Chitimacha | C11: 17399 | D11: =C11/$C$86 -> 0.0064772207 | E11: =$E$2*D11 -> 51.312542 | F11: 408 | G11: =C11+E11+F11 -> 17858.313
A12: TV | B12: Chitimacha AS | C12: 2468 | D12: =C12/$C$86 -> 0.00091877582 | E12: =$E$2*D12 -> 7.2785421 | F12: 58 | G12: =C12+E12+F12 -> 2533.2785
A13: TV | B13: Choctaw | C13: 960582 | D13: =C13/$C$86 -> 0.3576011 | E13: =$E$2*D13-1 -> 2831.9159 | F13: 22536 | G13: =C13+E13+F13 -> 985949.92
A14: TV | B14: Choctaw AS | C14: 33749 | D14: =C14/$C$86 -> 0.012563924 | E14: =$E$2*D14 -> 99.531409 | F14: 792 | G14: =C14+E14+F14 -> 34640.531
A15: TI | B15: Coushatta | C15: 35019 | D15: =C15/$C$86 -> 0.013036714 | E15: =$E$2*D15 -> 103.27685 | F15: 822 | G15: =C15+E15+F15 -> 35944.277
A16: TI | B16: Coushatta AS | C16: 2664 | D16: =C16/$C$86 -> 0.00099174181 | E16: =$E$2*D16 -> 7.8565786 | F16: 104 | G16: =C16+E16+F16 -> 2775.8566
A17: TI | B17: Jena Band | C17: 954 | D17: =C17/$C$86 -> 0.00035515078 | E17: =$E$2*D17 -> 2.8135045 | F17: 22 | G17: =C17+E17+F17 -> 978.8135
A18: TI | B18: Jena Band AS | C18: 804 | D18: =C18/$C$86 -> 0.00029930947 | E18: =$E$2*D18 -> 2.3711296 | F18: 31 | G18: =C18+E18+F18 -> 837.37113
A19: TI | B19: Maliseets | C19: 20180 | D19: =C19/$C$86 -> 0.0075125187 | E19: =$E$2*D19 -> 59.514173 | F19: 473 | G19: =C19+E19+F19 -> 20712.514
A20: TI | B20: Maliseets AS | C20: 3344 | D20: =C20/$C$86 -> 0.0012448891 | E20: =$E$2*D20 -> 9.8620116 | F20: 130 | G20: =C20+E20+F20 -> 3483.862
A21: TI | B21: Miccosukee | C21: 91617 | D21: =C21/$C$86 -> 0.03410676 | E21: =$E$2*D21 -> 270.19376 | F21: 2149 | G21: =C21+E21+F21 -> 94036.194
A22: TI | B22: Miccosukee AS | C22: 4938 | D22: =C22/$C$86 -> 0.0018382962 | E22: =$E$2*D22 -> 14.562982 | F22: 192 | G22: =C22+E22+F22 -> 5144.563
A23: TV | B23: Mohegan | C23: 4903 | D23: =C23/$C$86 -> 0.0018252666 | E23: =$E$2*D23 -> 14.459762 | F23: 115 | G23: =C23+E23+F23 -> 5032.4598
A24: TV | B24: Mohegan AS | C24: 4535 | D24: =C24/$C$86 -> 0.0016882692 | E24: =$E$2*D24 -> 13.374469 | F24: 106 | G24: =C24+E24+F24 -> 4654.3745
A25: TI | B25: Narragansett | C25: 3137 | D25: =C25/$C$86 -> 0.0011678281 | E25: =$E$2*D25 -> 9.2515342 | F25: 74 | G25: =C25+E25+F25 -> 3220.2515
... A51: SU | B51: Unity | C51: 353 | D51: =C51/$C$86 -> 0.00013141324 | E51: =$E$2*D51 -> 1.0410557 | F51: 0 | G51: =C51+E51+F51 -> 354.04106
A52: SU | B52: Unity AS | C52: 0 | D52: =C52/$C$86 -> 0 | E52: =$E$2*D52 -> 0 | F52: =C52+E52 -> 0
A53: SU | B53: Catawba | C53: 5227 | D53: =C53/$C$86 -> 0.0019458838 | E53: =$E$2*D53 -> 15.415292 | F53: 114 | G53: =C53+E53+F53 -> 5356.4153
A54: SU | B54: Catawba AS | C54: 7261 | D54: =C54/$C$86 -> 0.0027030921 | E54: =$E$2*D54 -> 21.413895 | F54: 282 | G54: =C54+E54+F54 -> 7564.4139
A55: SU | B55: Onondaga | C55: 1360 | D55: =C55/$C$86 -> 0.00050629462 | E55: =$E$2*D55 -> 4.010866 | F55: 0 | G55: =C55+E55+F55 -> 1364.0109
A56: SU | B56: Onondaga AS | C56: 0 | D56: =C56/$C$86 -> 0 | E56: =$E$2*D56 -> 0 | F56: =C56+E56 -> 0
A57: TI | B57: USET | C57: 0 | D57: =C57/$C$86 -> 0 | E57: =$E$2*D57 -> 0 | F57: =C57+E57 -> 0
A58: TI | B58: USET AS | C58: 0 | D58: =C58/$C$86 -> 0 | E58: =$E$2*D58 -> 0 | F58: =C58+E58 -> 0
A59: SU | B59: Mashpee | C59: 57486 | D59: =C59/$C$86 -> 0.021400627 | E59: =$E$2*D59 -> 169.53577 | F59: 1320 | G59: =C59+E59+F59 -> 58975.536
A60: SU | B60: Mashpee AS | C60: 5988 | D60: =C60/$C$86 -> 0.0022291854 | E60: =$E$2*D60 -> 17.659607 | F60: 233 | G60: =C60+E60+F60 -> 6238.6596
A61: SU | B61: Tuscarora | C61: 39962 | D61: =C61/$C$86 -> 0.014876872 | E61: =$E$2*D61 -> 117.85458 | F61: 0 | G61: =C61+E61+F61 -> 40079.855
A62: SU | B62: Tuscarora AS | C62: 4146 | D62: =C62/$C$86 -> 0.001543454 | E62: =$E$2*D62 -> 12.227243 | F62: 161 | G62: =C62+E62+F62 -> 4319.2272
A63: SU | B63: Shinnecock | C63: 97002 | D63: =C63/$C$86 -> 0.036111464 | E63: =$E$2*D63 -> 286.07502 | F63: 0 | G63: =C63+E63+F63 -> 97288.075
A64: SU | B64: Shinnecock AS | C64: 11926 | D64: =C64/$C$86 -> 0.0044397571 | E64: =$E$2*D64 -> 35.171756 | F64: 464 | G64: =C64+E64+F64 -> 12425.172
A65: SU | B65: Tonawanda | C65: 34278 | D65: =C65/$C$86 -> 0.012760858 | E65: =$E$2*D65 -> 101.09152 | F65: 0 | G65: =C65+E65+F65 -> 34379.092
...

Sheet Alcohol
B1: ALCOHOL
E2: 35844 | F2: =74438+132354 -> 206792
B3: =Dental!B3 -> FUNDING SOURCE: 75 23/24 0390
A4: LEVEL | B4: LOCATION | C4: BEGINNING BASE | E4: =Dental!E4 -> INFLATION INCREASE | F4: =Dental!F4 -> PAY COST INCREASE | G4: ENDING BASE
A5: TI | B5: Ala. Coushatta | C5: 94780 | D5: =C5/$C$86 -> 0.0097811239 | E5: =$E$2*D5 -> 350.5946 | F5: 1855 | G5: =C5+E5+F5 -> 96985.595
A6: TI | B6: Ala. Coushatta AS | C6: 9992 | D6: =C6/$C$86 -> 0.0010311563 | E6: =$E$2*D6 -> 36.960765 | F6: 1179 | G6: =C6+E6+F6 -> 11207.961
A7: TI | B7: Cayuga | C7: 1008 | D7: =C7/$C$86 -> 0.00010402377 | E7: =$E$2*D7 -> 3.728628 | F7: 21 | G7: =C7+E7+F7 -> 1032.7286
A8: TI | B8: Cayuga AS | C8: 0 | D8: =C8/$C$86 -> 0 | E8: =$E$2*D8 -> 0 | F8: =C8+E8 -> 0 | G8: =C8+E8+F8 -> 0
A9: TV | B9: Cherokee | C9: 841079 | D9: =C9/$C$86 -> 0.086797825 | E9: =$E$2*D9-1 -> 3110.1813 | F9: 16459 | G9: =C9+E9+F9 -> 860648.18
A10: TV | B10: Cherokee AS | C10: 111959 | D10: =C10/$C$86 -> 0.011553965 | E10: =$E$2*D10 -> 414.14034 | F10: 2191 | G10: =C10+E10+F10 -> 114564.14
A11: TV | B11: Chitimacha | C11: 171928 | D11: =C11/$C$86 -> 0.017742657 | E11: =$E$2*D11 -> 635.96781 | F11: 3364 | G11: =C11+E11+F11 -> 175927.97
A12: TV | B12: Chitimacha AS | C12: 6915 | D12: =C12/$C$86 -> 0.00071361544 | E12: =$E$2*D12 -> 25.578832 | F12: 135 | G12: =C12+E12+F12 -> 7075.5788
A13: TV | B13: Choctaw | C13: 788386 | D13: =C13/$C$86 -> 0.081360003 | E13: =$E$2*D13 -> 2916.268 | F13: 15428 | G13: =C13+E13+F13 -> 806730.27
A14: TV | B14: Choctaw AS | C14: 94556 | D14: =C14/$C$86 -> 0.0097580075 | E14: =$E$2*D14 -> 349.76602 | F14: 1850 | G14: =C14+E14+F14 -> 96755.766
A15: TI | B15: Coushatta | C15: 77836 | D15: =C15/$C$86 -> 0.0080325338 | E15: =$E$2*D15 -> 287.91814 | F15: 1523 | G15: =C15+E15+F15 -> 79646.918
A16: TI | B16: Coushatta AS | C16: 6187 | D16: =C16/$C$86 -> 0.00063848716 | E16: =$E$2*D16 -> 22.885934 | F16: 730 | G16: =C16+E16+F16 -> 6939.8859
A17: TI | B17: Jena Band | C17: 2877 | D17: =C17/$C$86 -> 0.00029690118 | E17: =$E$2*D17 -> 10.642126 | F17: 56 | G17: =C17+E17+F17 -> 2943.6421
A18: TI | B18: Jena Band AS | C18: 1868 | D18: =C18/$C$86 -> 0.00019277421 | E18: =$E$2*D18 -> 6.9097987 | F18: 220 | G18: =C18+E18+F18 -> 2094.9098
A19: TI | B19: Maliseets | C19: 212688 | D19: =C19/$C$86 -> 0.021949015 | E19: =$E$2*D19 -> 786.74051 | F19: 4162 | G19: =C19+E19+F19 -> 217636.74
A20: TI | B20: Maliseets AS | C20: 7766 | D20: =C20/$C$86 -> 0.0008014371 | E20: =$E$2*D20 -> 28.726711 | F20: 916 | G20: =C20+E20+F20 -> 8710.7267
A21: TI | B21: Miccosukee | C21: 228604 | D21: =C21/$C$86 -> 0.023591518 | E21: =$E$2*D21 -> 845.61436 | F21: 4474 | G21: =C21+E21+F21 -> 233923.61
... A50: TV | B50: Aquinnah AS | C50: 4725 | D50: =C50/$C$86 -> 0.00048761142 | E50: =$E$2*D50 -> 17.477944 | F50: 92 | G50: =C50+E50+F50 -> 4834.4779
A51: SU | B51: Unity | C51: 2295961 | D51: =C51/$C$86 -> 0.23693901 | E51: =$E$2*D51-1 -> 8491.8417 | F51: 47577 | G51: =C51+E51+F51 -> 2352029.8
A52: SU | B52: Unity AS | C52: 0 | D52: =C52/$C$86 -> 0 | E52: =$E$2*D52 -> 0 | F52: =C52+E52 -> 0 | G52: =C52+E52+F52 -> 0
A53: SU | B53: Catawba | C53: 24994 | D53: =C53/$C$86 -> 0.0025793354 | E53: =$E$2*D53 -> 92.453698 | F53: 1470 | G53: =C53+E53+F53 -> 26556.454
A54: SU | B54: Catawba AS | C54: 16861 | D54: =C54/$C$86 -> 0.0017400246 | E54: =$E$2*D54 -> 62.369441 | F54: 1989 | G54: =C54+E54+F54 -> 18912.369
A55: SU | B55: Onondaga | C55: 3487 | D55: =C55/$C$86 -> 0.00035985207 | E55: =$E$2*D55 -> 12.898538 | F55: 0 | G55: =C55+E55+F55 -> 3499.8985
A56: SU | B56: Onondaga AS | C56: 0 | D56: =C56/$C$86 -> 0 | E56: =$E$2*D56 -> 0 | F56: =C56+E56 -> 0 | G56: =C56+E56+F56 -> 0
A57: TI | B57: USET | C57: 0 | D57: =C57/$C$86 -> 0 | E57: =$E$2*D57 -> 0 | F57: =C57+E57 -> 0 | G57: =C57+E57+F57 -> 0
A58: TI | B58: USET AS | C58: 0 | D58: =C58/$C$86 -> 0 | E58: =$E$2*D58 -> 0 | F58: =C58+E58 -> 0 | G58: =C58+E58+F58 -> 0
A59: SU | B59: Mashpee | C59: 161452 | D59: =C59/$C$86 -> 0.016661553 | E59: =$E$2*D59 -> 597.21671 | F59: 5509 | G59: =C59+E59+F59 -> 167558.22
A60: SU | B60: Mashpee AS | C60: 13699 | D60: =C60/$C$86 -> 0.0014137119 | E60: =$E$2*D60 -> 50.67309 | F60: 1616 | G60: =C60+E60+F60 -> 15365.673
A61: SU | B61: Tuscarora | C61: 110785 | D61: =C61/$C$86 -> 0.011432811 | E61: =$E$2*D61 -> 409.79767 | F61: 0 | G61: =C61+E61+F61 -> 111194.8
A62: SU | B62: Tuscarora AS | C62: 9482 | D62: =C62/$C$86 -> 0.00097852518 | E62: =$E$2*D62 -> 35.074257 | F62: 1119 | G62: =C62+E62+F62 -> 10636.074
A63: SU | B63: Shinnecock | C63: 98449 | D63: =C63/$C$86 -> 0.010159758 | E63: =$E$2*D63 -> 364.16637 | F63: 0 | G63: =C63+E63+F63 -> 98813.166
A64: SU | B64: Shinnecock AS | C64: 9972 | D64: =C64/$C$86 -> 0.0010290923 | E64: =$E$2*D64 -> 36.886784 | F64: 1176 | G64: =C64+E64+F64 -> 11184.887
A65: SU | B65: Tonawanda | C65: 62905 | D65: =C65/$C$86 -> 0.0064916818 | E65: =$E$2*D65 -> 232.68784 | F65: 0 | G65: =C65+E65+F65 -> 63137.688
A66: SU | B66: Tonawanda AS | C66: 6648 | D66: =C66/$C$86 -> 0.00068606153 | E66: =$E$2*D66 -> 24.591189 | F66: 784 | G66: =C66+E66+F66 -> 7456.5912
A67: SU | B67: Pamunkey | C67: 0 | D67: =C67/$C$86 -> 0 | E67: =$E$2*D67 -> 0 | F67: =C67+E67 -> 0 | G67: =C67+E67+F67 -> 0
A68: SU | B68: Pamunkey AS | C68: 0 | D68: =C68/$C$86 -> 0 | E68: =$E$2*D68 -> 0 | F68: =C68+E68 -> 0 | G68: =C68+E68+F68 -> 0
...

Sheet IHCIF
B1: IHCIF
E2: 0 | F2: 0
B3: =Dental!B3 -> FUNDING SOURCE: 75 23/24 0390
A4: LEVEL | B4: LOCATION | C4: BEGINNING BASE | E4: =Dental!E4 -> INFLATION INCREASE | F4: =Dental!F4 -> PAY COST INCREASE | G4: ENDING BASE
A5: TI | B5: Ala. Coushatta | D5: =C5/$C$84 -> 0 | G5: =C5+E5+F5 -> 0
A6: TI | B6: Ala. Coushatta AS | D6: =C6/$C$84 -> 0 | G6: =C6+E6+F6 -> 0
A7: TI | B7: Cayuga | D7: =C7/$C$84 -> 0 | G7: =C7+E7+F7 -> 0
A8: TI | B8: Cayuga AS | D8: =C8/$C$84 -> 0 | G8: =C8+E8+F8 -> 0
A9: TV | B9: Cherokee | D9: =C9/$C$84 -> 0 | G9: =C9+E9+F9 -> 0
A10: TV | B10: Cherokee AS | D10: =C10/$C$84 -> 0 | G10: =C10+E10+F10 -> 0
A11: TV | B11: Chitimacha | D11: =C11/$C$84 -> 0 | G11: =C11+E11+F11 -> 0
A12: TV | B12: Chitimacha AS | D12: =C12/$C$84 -> 0 | G12: =C12+E12+F12 -> 0
A13: TV | B13: Choctaw | D13: =C13/$C$84 -> 0 | G13: =C13+E13+F13 -> 0
A14: TV | B14: Choctaw AS | D14: =C14/$C$84 -> 0 | G14: =C14+E14+F14 -> 0
A15: TI | B15: Coushatta | C15: 142240 | D15: =C15/$C$84 -> 0.079691453 | G15: =C15+E15+F15 -> 142240
A16: TI | B16: Coushatta AS | D16: =C16/$C$84 -> 0 | G16: =C16+E16+F16 -> 0
A17: TI | B17: Jena Band | C17: 31082 | D17: =C17/$C$84 -> 0.017414017 | G17: =C17+E17+F17 -> 31082
A18: TI | B18: Jena Band AS | D18: =C18/$C$84 -> 0 | G18: =C18+E18+F18 -> 0
A19: TI | B19: Maliseets | D19: =C19/$C$84 -> 0 | G19: =C19+E19+F19 -> 0
A20: TI | B20: Maliseets AS | D20: =C20/$C$84 -> 0 | G20: =C20+E20+F20 -> 0
A21: TI | B21: Miccosukee | D21: =C21/$C$84 -> 0 | G21: =C21+E21+F21 -> 0
A22: TI | B22: Miccosukee AS | D22: =C22/$C$84 -> 0 | G22: =C22+E22+F22 -> 0
A23: TV | B23: Mohegan | D23: =C23/$C$84 -> 0 | G23: =C23+E23+F23 -> 0
A24: TV | B24: Mohegan AS | D24: =C24/$C$84 -> 0 | G24: =C24+E24+F24 -> 0
A25: TI | B25: Narragansett | D25: =C25/$C$84 -> 0 | G25: =C25+E25+F25 -> 0
A26: TI | B26: Narragansett AS | D26: =C26/$C$84 -> 0 | G26: =C26+E26+F26 -> 0
A27: TI | B27: Oneida | D27: =C27/$C$84 -> 0 | G27: =C27+E27+F27 -> 0
A28: TI | B28: Oneida AS | D28: =C28/$C$84 -> 0 | G28: =C28+E28+F28 -> 0
A29: TI | B29: PIT | D29: =C29/$C$84 -> 0 | G29: =C29+E29+F29 -> 0
... A36: TV | B36: Pequot AS | D36: =C36/$C$84 -> 0 | G36: =C36+E36+F36 -> 0
A37: TV | B37: Poarch Creek | C37: 332109 | D37: =C37/$C$84 -> 0.18606755 | G37: =C37+E37+F37 -> 332109
A38: TV | B38: Poarch Creek AS | D38: =C38/$C$84 -> 0 | G38: =C38+E38+F38 -> 0
A39: TV | B39: Seminole | C39: 432196 | D39: =C39/$C$84 -> 0.24214235 | G39: =C39+E39+F39 -> 432196
A40: TV | B40: Seminole AS | D40: =C40/$C$84 -> 0 | G40: =C40+E40+F40 -> 0
A41: TI | B41: Seneca | D41: =C41/$C$84 -> 0 | G41: =C41+E41+F41 -> 0
A42: TI | B42: Seneca AS | D42: =C42/$C$84 -> 0 | G42: =C42+E42+F42 -> 0
A43: TV | B43: St. Regis | D43: =C43/$C$84 -> 0 | G43: =C43+E43+F43 -> 0
A44: TV | B44: St. Regis AS | D44: =C44/$C$84 -> 0 | G44: =C44+E44+F44 -> 0
A45: TI | B45: Tunica Biloxi | D45: =C45/$C$84 -> 0 | G45: =C45+E45+F45 -> 0
A46: TI | B46: Tunica Biloxi AS | D46: =C46/$C$84 -> 0 | G46: =C46+E46+F46 -> 0
...

Sheet PHN
B1: PHN
E2: 5932 | F2: =46865+1361 -> 48226
B3: =Dental!B3 -> FUNDING SOURCE: 75 23/24 0390
A4: LEVEL | B4: LOCATION | C4: BEGINNING BASE | E4: =Dental!E4 -> INFLATION INCREASE | F4: =Dental!F4 -> PAY COST INCREASE | G4: ENDING BASE
A5: TI | B5: Ala. Coushatta | C5: 2998 | D5: =C5/$C$84 -> 0.0014304002 | E5: =$E$2*D5 -> 8.4851337 | F5: 84 | G5: =C5+E5+F5 -> 3090.4851
A6: TI | B6: Ala. Coushatta AS | C6: 1199 | D6: =C6/$C$84 -> 0.00057206464 | E6: =$E$2*D6 -> 3.3934874 | F6: 20 | G6: =C6+E6+F6 -> 1222.3935
A7: TI | B7: Cayuga | C7: 349 | D7: =C7/$C$84 -> 0.00016651423 | E7: =$E$2*D7 -> 0.9877624 | F7: 11 | G7: =C7+E7+F7 -> 360.98776
A8: TI | B8: Cayuga AS | C8: 0 | D8: =C8/$C$84 -> 0 | E8: =$E$2*D8 -> 0 | F8: =C8+E8 -> 0 | G8: =C8+E8+F8 -> 0
A9: TV | B9: Cherokee | C9: 310873 | D9: =C9/$C$84 -> 0.14832314 | E9: =$E$2*D9 -> 879.85289 | F9: 8698 | G9: =C9+E9+F9 -> 320450.85
A10: TV | B10: Cherokee AS | C10: 13383 | D10: =C10/$C$84 -> 0.0063852719 | E10: =$E$2*D10 -> 37.877433 | F10: 374 | G10: =C10+E10+F10 -> 13794.877
A11: TV | B11: Chitimacha | C11: 5348 | D11: =C11/$C$84 -> 0.0025516278 | E11: =$E$2*D11 -> 15.136256 | F11: 150 | G11: =C11+E11+F11 -> 5513.1363
A12: TV | B12: Chitimacha AS | C12: 827 | D12: =C12/$C$84 -> 0.00039457669 | E12: =$E$2*D12 -> 2.3406289 | F12: 23 | G12: =C12+E12+F12 -> 852.34063
A13: TV | B13: Choctaw | C13: 969885 | D13: =C13/$C$84 -> 0.46274972 | E13: =$E$2*D13-1 -> 2744.0313 | F13: 27138 | G13: =C13+E13+F13 -> 999767.03
A14: TV | B14: Choctaw AS | C14: 11303 | D14: =C14/$C$84 -> 0.0053928662 | E14: =$E$2*D14 -> 31.990482 | F14: 316 | G14: =C14+E14+F14 -> 11650.99
A15: TI | B15: Coushatta | C15: 3030 | D15: =C15/$C$84 -> 0.0014456679 | E15: =$E$2*D15 -> 8.5757022 | F15: 85 | G15: =C15+E15+F15 -> 3123.5757
A16: TI | B16: Coushatta AS | C16: 741 | D16: =C16/$C$84 -> 0.00035354453 | E16: =$E$2*D16 -> 2.0972262 | F16: 12 | G16: =C16+E16+F16 -> 755.09723
A17: TI | B17: Jena Band | C17: 1858 | D17: =C17/$C$84 -> 0.00088648549 | E17: =$E$2*D17 -> 5.2586319 | F17: 52 | G17: =C17+E17+F17 -> 1915.2586
A18: TI | B18: Jena Band AS | C18: 225 | D18: =C18/$C$84 -> 0.00010735158 | E18: =$E$2*D18 -> 0.63680957 | F18: 4 | G18: =C18+E18+F18 -> 229.63681
A19: TI | B19: Maliseets | C19: 4785 | D19: =C19/$C$84 -> 0.0022830103 | E19: =$E$2*D19 -> 13.542817 | F19: 134 | G19: =C19+E19+F19 -> 4932.5428
A20: TI | B20: Maliseets AS | C20: 933 | D20: =C20/$C$84 -> 0.00044515122 | E20: =$E$2*D20 -> 2.640637 | F20: 15 | G20: =C20+E20+F20 -> 950.64064
A21: TI | B21: Miccosukee | C21: 18684 | D21: =C21/$C$84 -> 0.0089144751 | E21: =$E$2*D21 -> 52.880667 | F21: 523 | G21: =C21+E21+F21 -> 19259.881
A22: TI | B22: Miccosukee AS | C22: 1377 | D22: =C22/$C$84 -> 0.00065699167 | E22: =$E$2*D22 -> 3.8972746 | F22: 23 | G22: =C22+E22+F22 -> 1403.8973
A23: TV | B23: Mohegan | C23: 5293 | D23: =C23/$C$84 -> 0.0025253863 | E23: =$E$2*D23 -> 14.980591 | F23: 148 | G23: =C23+E23+F23 -> 5455.9806
A24: TV | B24: Mohegan AS | C24: 1517 | D24: =C24/$C$84 -> 0.0007237882 | E24: =$E$2*D24 -> 4.2935116 | F24: 42 | G24: =C24+E24+F24 -> 1563.2935
A25: TI | B25: Narragansett | C25: 16560 | D25: =C25/$C$84 -> 0.0079010762 | E25: =$E$2*D25 -> 46.869184 | F25: 463 | G25: =C25+E25+F25 -> 17069.869
... A50: TV | B50: Aquinnah AS | C50: 565 | D50: =C50/$C$84 -> 0.00026957174 | E50: =$E$2*D50 -> 1.5990996 | F50: 16 | G50: =C50+E50+F50 -> 582.5991
A51: SU | B51: Unity | C51: 0 | D51: =C51/$C$84 -> 0 | E51: =$E$2*D51 -> 0 | F51: =C51+E51 -> 0 | G51: =C51+E51+F51 -> 0
A52: SU | B52: Unity AS | C52: 0 | D52: =C52/$C$84 -> 0 | E52: =$E$2*D52 -> 0 | F52: =C52+E52 -> 0 | G52: =C52+E52+F52 -> 0
A53: SU | B53: Catawba | C53: 5614 | D53: =C53/$C$84 -> 0.0026785412 | E53: =$E$2*D53 -> 15.889106 | F53: 32 | G53: =C53+E53+F53 -> 5661.8891
A54: SU | B54: Catawba AS | C54: 2024 | D54: =C54/$C$84 -> 0.0009656871 | E54: =$E$2*D54 -> 5.7284559 | F54: 34 | G54: =C54+E54+F54 -> 2063.7285
A55: SU | B55: Onondaga | C55: 1192 | D55: =C55/$C$84 -> 0.00056872481 | E55: =$E$2*D55 -> 3.3736756 | F55: 0 | G55: =C55+E55+F55 -> 1195.3737
A56: SU | B56: Onondaga AS | C56: 0 | D56: =C56/$C$84 -> 0 | E56: =$E$2*D56 -> 0 | F56: =C56+E56 -> 0 | G56: =C56+E56+F56 -> 0
A57: TI | B57: USET | C57: 0 | D57: =C57/$C$84 -> 0 | E57: =$E$2*D57 -> 0 | F57: =C57+E57 -> 0 | G57: =C57+E57+F57 -> 0
A58: TI | B58: USET AS | C58: 0 | D58: =C58/$C$84 -> 0 | E58: =$E$2*D58 -> 0 | F58: =C58+E58 -> 0 | G58: =C58+E58+F58 -> 0
A59: SU | B59: Mashpee | C59: 138708 | D59: =C59/$C$84 -> 0.066180102 | E59: =$E$2*D59 -> 392.58036 | F59: 507 | G59: =C59+E59+F59 -> 139607.58
A60: SU | B60: Mashpee AS | C60: 12249 | D60: =C60/$C$84 -> 0.00584422 | E60: =$E$2*D60 -> 34.667913 | F60: 202 | G60: =C60+E60+F60 -> 12485.668
A61: SU | B61: Tuscarora | C61: 94362 | D61: =C61/$C$84 -> 0.045021821 | E61: =$E$2*D61 -> 267.06944 | F61: 0 | G61: =C61+E61+F61 -> 94629.069
A62: SU | B62: Tuscarora AS | C62: 8477 | D62: =C62/$C$84 -> 0.0040445304 | E62: =$E$2*D62 -> 23.992154 | F62: 140 | G62: =C62+E62+F62 -> 8640.9922
A63: SU | B63: Shinnecock | C63: 77591 | D63: =C63/$C$84 -> 0.037020073 | E63: =$E$2*D63 -> 219.60307 | F63: 0 | G63: =C63+E63+F63 -> 77810.603
A64: SU | B64: Shinnecock AS | C64: 7840 | D64: =C64/$C$84 -> 0.0037406061 | E64: =$E$2*D64 -> 22.189276 | F64: 130 | G64: =C64+E64+F64 -> 7992.1893
...

Sheet HE
B1: HEALTH EDUCATION
E2: 2387 | F2: =18949+1424 -> 20373
B3: =Dental!B3 -> FUNDING SOURCE: 75 23/24 0390
A4: LEVEL | B4: LOCATION | C4: BEGINNING BASE | E4: =Dental!E4 -> INFLATION INCREASE | F4: =Dental!F4 -> PAY COST INCREASE | G4: ENDING BASE
A5: TI | B5: Ala. Coushatta | C5: 884 | D5: =C5/$C$84 -> 0.00098822514 | E5: =$E$2*D5 -> 2.3588934 | F5: 24 | G5: =C5+E5+F5 -> 910.35889
A6: TI | B6: Ala. Coushatta AS | C6: 2160 | D6: =C6/$C$84 -> 0.0024146678 | E6: =$E$2*D6 -> 5.763812 | F6: 28 | G6: =C6+E6+F6 -> 2193.7638
A7: TI | B7: Cayuga | C7: 109 | D7: =C7/$C$84 -> 0.00012185129 | E7: 1 | F7: 3 | G7: =C7+E7+F7 -> 113
A8: TI | B8: Cayuga AS | C8: 0 | D8: =C8/$C$84 -> 0 | E8: =$E$2*D8 -> 0 | F8: =C8+E8 -> 0
A9: TV | B9: Cherokee | C9: 192818 | D9: =C9/$C$84 -> 0.21555158 | E9: =$E$2*D9 -> 514.52162 | F9: 5206 | G9: =C9+E9+F9 -> 198538.52
A10: TV | B10: Cherokee AS | C10: 27326 | D10: =C10/$C$84 -> 0.030547783 | E10: =$E$2*D10 -> 72.917558 | F10: 738 | G10: =C10+E10+F10 -> 28136.918
A11: TV | B11: Chitimacha | C11: 506 | D11: =C11/$C$84 -> 0.00056565828 | E11: =$E$2*D11+1 -> 2.3502263 | F11: 14 | G11: =C11+E11+F11 -> 522.35023
A12: TV | B12: Chitimacha AS | C12: 1686 | D12: =C12/$C$84 -> 0.0018847823 | E12: =$E$2*D12 -> 4.4989754 | F12: 46 | G12: =C12+E12+F12 -> 1736.499
A13: TV | B13: Choctaw | C13: 355492 | D13: =C13/$C$84 -> 0.39740513 | E13: =$E$2*D13 -> 948.60604 | F13: 9597 | G13: =C13+E13+F13 -> 366037.61
A14: TV | B14: Choctaw AS | C14: 23078 | D14: =C14/$C$84 -> 0.025798936 | E14: =$E$2*D14 -> 61.582061 | F14: 623 | G14: =C14+E14+F14 -> 23762.582
A15: TI | B15: Coushatta | C15: 490 | D15: =C15/$C$84 -> 0.00054777185 | E15: =$E$2*D15 -> 1.3075314 | F15: 13 | G15: =C15+E15+F15 -> 504.30753
A16: TI | B16: Coushatta AS | C16: 1336 | D16: =C16/$C$84 -> 0.0014935167 | E16: =$E$2*D16 -> 3.5650244 | F16: 17 | G16: =C16+E16+F16 -> 1356.565
A17: TI | B17: Jena Band | C17: 148 | D17: =C17/$C$84 -> 0.00016544946 | E17: 1 | F17: 4 | G17: =C17+E17+F17 -> 153
A18: TI | B18: Jena Band AS | C18: 403 | D18: =C18/$C$84 -> 0.0004505144 | E18: =$E$2*D18 -> 1.0753779 | F18: 5 | G18: =C18+E18+F18 -> 409.07538
A19: TI | B19: Maliseets | C19: 446 | D19: =C19/$C$84 -> 0.00049858418 | E19: =$E$2*D19 -> 1.1901204 | F19: 12 | G19: =C19+E19+F19 -> 459.19012
A20: TI | B20: Maliseets AS | C20: 1679 | D20: =C20/$C$84 -> 0.001876957 | E20: =$E$2*D20 -> 4.4802964 | F20: 22 | G20: =C20+E20+F20 -> 1705.4803
A21: TI | B21: Miccosukee | C21: 776 | D21: =C21/$C$84 -> 0.00086749175 | E21: =$E$2*D21 -> 2.0707028 | F21: 21 | G21: =C21+E21+F21 -> 799.0707
A22: TI | B22: Miccosukee AS | C22: 2478 | D22: =C22/$C$84 -> 0.0027701605 | E22: =$E$2*D22 -> 6.6123732 | F22: 32 | G22: =C22+E22+F22 -> 2516.6124
A23: TV | B23: Mohegan | C23: 1175 | D23: =C23/$C$84 -> 0.0013135345 | E23: =$E$2*D23 -> 3.135407 | F23: 32 | G23: =C23+E23+F23 -> 1210.1354
A24: TV | B24: Mohegan AS | C24: 3102 | D24: =C24/$C$84 -> 0.0034677312 | E24: =$E$2*D24 -> 8.2774744 | F24: 84 | G24: =C24+E24+F24 -> 3194.2775
A25: TI | B25: Narragansett | C25: 714 | D25: =C25/$C$84 -> 0.00079818184 | E25: =$E$2*D25 -> 1.9052601 | F25: 19 | G25: =C25+E25+F25 -> 734.90526
A26: TI | B26: Narragansett AS | C26: 2456 | D26: =C26/$C$84 -> 0.0027455667 | E26: =$E$2*D26 -> 6.5536677 | F26: 32 | G26: =C26+E26+F26 -> 2494.5537
A27: TI | B27: Oneida | C27: 1916 | D27: =C27/$C$84 -> 0.0021418997 | E27: =$E$2*D27 -> 5.1127147 | F27: 52 | G27: =C27+E27+F27 -> 1973.1127
A28: TI | B28: Oneida AS | C28: 4284 | D28: =C28/$C$84 -> 0.0047890911 | E28: =$E$2*D28 -> 11.43156 | F28: 56 | G28: =C28+E28+F28 -> 4351.4316
A29: TI | B29: PIT | C29: 790 | D29: =C29/$C$84 -> 0.00088314238 | E29: =$E$2*D29 -> 2.1080609 | F29: 21 | G29: =C29+E29+F29 -> 813.10806
... A50: TV | B50: Aquinnah AS | C50: 1154 | D50: =C50/$C$84 -> 0.0012900586 | E50: =$E$2*D50 -> 3.0793699 | F50: 31 | G50: =C50+E50+F50 -> 1188.0794
A51: SU | B51: Unity | C51: 0 | D51: =C51/$C$84 -> 0 | E51: =$E$2*D51 -> 0 | F51: =C51+E51 -> 0
A52: SU | B52: Unity AS | C52: 0 | D52: =C52/$C$84 -> 0 | E52: =$E$2*D52 -> 0 | F52: =C52+E52 -> 0
A53: SU | B53: Catawba | C53: 1108 | D53: =C53/$C$84 -> 0.0012386351 | E53: =$E$2*D53 -> 2.9566221 | F53: 20 | G53: =C53+E53+F53 -> 1130.9566
A54: SU | B54: Catawba AS | C54: 3643 | D54: =C54/$C$84 -> 0.0040725161 | E54: =$E$2*D54 -> 9.7210958 | F54: 48 | G54: =C54+E54+F54 -> 3700.7211
A55: SU | B55: Onondaga | C55: 324 | D55: =C55/$C$84 -> 0.00036220016 | E55: =$E$2*D55 -> 0.86457179 | F55: 0 | G55: =C55+E55+F55 -> 324.86457
A56: SU | B56: Onondaga AS | C56: 0 | D56: =C56/$C$84 -> 0 | E56: =$E$2*D56 -> 0 | F56: =C56+E56 -> 0
A57: TI | B57: USET | C57: 0 | D57: =C57/$C$84 -> 0 | E57: =$E$2*D57 -> 0 | F57: =C57+E57 -> 0
A58: TI | B58: USET AS | C58: 0 | D58: =C58/$C$84 -> 0 | E58: =$E$2*D58 -> 0 | F58: =C58+E58 -> 0
A59: SU | B59: Mashpee | C59: 40783 | D59: =C59/$C$84 -> 0.045591387 | E59: =$E$2*D59 -> 108.82664 | F59: 849 | G59: =C59+E59+F59 -> 41740.827
A60: SU | B60: Mashpee AS | C60: 3532 | D60: =C60/$C$84 -> 0.003948429 | E60: =$E$2*D60 -> 9.4248999 | F60: 46 | G60: =C60+E60+F60 -> 3587.4249
...

Sheet DO
B1: DIRECT OPERATIONS
E2: 3381 | F2: =55226+52067 -> 107293
B3: =Dental!B3 -> FUNDING SOURCE: 75 23/24 0390
A4: LEVEL | B4: LOCATION | C4: BEGINNING BASE | E4: =Dental!E4 -> INFLATION INCREASE | F4: =Dental!F4 -> PAY COST INCREASE | G4: ENDING BASE
A5: TI | B5: Ala. Coushatta | C5: 0 | D5: =C5/$C$84 -> 0 | E5: =$E$2*D5 -> 0 | F5: =C5+E5 -> 0 | G5: =C5+E5+F5 -> 0
A6: TI | B6: Ala. Coushatta AS | C6: 20074 | D6: =C6/$C$84 -> 0.010275731 | E6: =$E$2*D6 -> 34.742246 | F6: 996 | G6: =C6+E6+F6 -> 21104.742
A7: TI | B7: Cayuga | C7: 0 | D7: =C7/$C$84 -> 0 | E7: =$E$2*D7 -> 0 | F7: =C7+E7 -> 0 | G7: =C7+E7+F7 -> 0
A8: TI | B8: Cayuga AS | C8: 0 | D8: =C8/$C$84 -> 0 | E8: =$E$2*D8 -> 0 | F8: =C8+E8 -> 0 | G8: =C8+E8+F8 -> 0
A9: TV | B9: Cherokee | C9: 0 | D9: =C9/$C$84 -> 0 | E9: =$E$2*D9 -> 0 | F9: =C9+E9 -> 0 | G9: =C9+E9+F9 -> 0
A10: TV | B10: Cherokee AS | C10: 236549 | D10: =C10/$C$84 -> 0.12108767 | E10: =$E$2*D10 -> 409.39741 | F10: 14671 | G10: =C10+E10+F10 -> 251629.4
A11: TV | B11: Chitimacha | C11: 0 | D11: =C11/$C$84 -> 0 | E11: =$E$2*D11 -> 0 | F11: =C11+E11 -> 0 | G11: =C11+E11+F11 -> 0
A12: TV | B12: Chitimacha AS | C12: 14608 | D12: =C12/$C$84 -> 0.0074777263 | E12: =$E$2*D12 -> 25.282193 | F12: 906 | G12: =C12+E12+F12 -> 15539.282
A13: TV | B13: Choctaw | C13: 0 | D13: =C13/$C$84 -> 0 | E13: =$E$2*D13 -> 0 | F13: =C13+E13 -> 0 | G13: =C13+E13+F13 -> 0
A14: TV | B14: Choctaw AS | C14: 199781 | D14: =C14/$C$84 -> 0.1022664 | E14: =$E$2*D14 -> 345.76271 | F14: 12391 | G14: =C14+E14+F14 -> 212517.76
A15: TI | B15: Coushatta | C15: 0 | D15: =C15/$C$84 -> 0 | E15: =$E$2*D15 -> 0 | F15: =C15+E15 -> 0 | G15: =C15+E15+F15 -> 0
A16: TI | B16: Coushatta AS | C16: 12430 | D16: =C16/$C$84 -> 0.0063628243 | E16: =$E$2*D16 -> 21.512709 | F16: 617 | G16: =C16+E16+F16 -> 13068.513
A17: TI | B17: Jena Band | C17: 0 | D17: =C17/$C$84 -> 0 | E17: =$E$2*D17 -> 0 | F17: =C17+E17 -> 0 | G17: =C17+E17+F17 -> 0
A18: TI | B18: Jena Band AS | C18: 3754 | D18: =C18/$C$84 -> 0.0019216446 | E18: =$E$2*D18+1 -> 7.4970804 | F18: 186 | G18: =C18+E18+F18 -> 3947.4971
A19: TI | B19: Maliseets | C19: 0 | D19: =C19/$C$84 -> 0 | E19: =$E$2*D19 -> 0 | F19: =C19+E19 -> 0 | G19: =C19+E19+F19 -> 0
A20: TI | B20: Maliseets AS | C20: 15607 | D20: =C20/$C$84 -> 0.0079891069 | E20: =$E$2*D20 -> 27.011171 | F20: 775 | G20: =C20+E20+F20 -> 16409.011
A21: TI | B21: Miccosukee | C21: 0 | D21: =C21/$C$84 -> 0 | E21: =$E$2*D21 -> 0 | F21: =C21+E21 -> 0 | G21: =C21+E21+F21 -> 0
A22: TI | B22: Miccosukee AS | C22: 23043 | D22: =C22/$C$84 -> 0.01179554 | E22: =$E$2*D22 -> 39.88072 | F22: 1144 | G22: =C22+E22+F22 -> 24226.881
A23: TV | B23: Mohegan | C23: 0 | D23: =C23/$C$84 -> 0 | E23: =$E$2*D23 -> 0 | F23: =C23+E23 -> 0 | G23: =C23+E23+F23 -> 0
A24: TV | B24: Mohegan AS | C24: 26835 | D24: =C24/$C$84 -> 0.013736636 | E24: =$E$2*D24 -> 46.443568 | F24: 1664 | G24: =C24+E24+F24 -> 28545.444
A25: TI | B25: Narragansett | C25: 0 | D25: =C25/$C$84 -> 0 | E25: =$E$2*D25 -> 0 | F25: =C25+E25 -> 0 | G25: =C25+E25+F25 -> 0
A26: TI | B26: Narragansett AS | C26: 22841 | D26: =C26/$C$84 -> 0.011692138 | E26: =$E$2*D26 -> 39.531117 | F26: 1134 | G26: =C26+E26+F26 -> 24014.531
A27: TI | B27: Oneida | C27: 0 | D27: =C27/$C$84 -> 0 | E27: =$E$2*D27 -> 0 | F27: =C27+E27 -> 0 | G27: =C27+E27+F27 -> 0
A28: TI | B28: Oneida AS | C28: 39836 | D28: =C28/$C$84 -> 0.020391751 | E28: =$E$2*D28 -> 68.944511 | F28: 1977 | G28: =C28+E28+F28 -> 41881.945
A29: TI | B29: PIT | C29: 0 | D29: =C29/$C$84 -> 0 | E29: =$E$2*D29 -> 0 | F29: =C29+E29 -> 0 | G29: =C29+E29+F29 -> 0
A30: TI | B30: PIT AS | C30: 26272 | D30: =C30/$C$84 -> 0.013448441 | E30: =$E$2*D30 -> 45.469179 | F30: 1304 | G30: =C30+E30+F30 -> 27621.469
A31: TI | B31: PPP | C31: 0 | D31: =C31/$C$84 -> 0 | E31: =$E$2*D31 -> 0 | F31: =C31+E31 -> 0 | G31: =C31+E31+F31 -> 0
A32: TI | B32: PPP AS | C32: 35272 | D32: =C32/$C$84 -> 0.018055474 | E32: =$E$2*D32 -> 61.045557 | F32: 1751 | G32: =C32+E32+F32 -> 37084.046
A33: TV | B33: Penobscot | C33: 0 | D33: =C33/$C$84 -> 0 | E33: =$E$2*D33 -> 0 | F33: =C33+E33 -> 0 | G33: =C33+E33+F33 -> 0
A34: TV | B34: Penobscot AS | C34: 37460 | D34: =C34/$C$84 -> 0.019175495 | E34: =$E$2*D34 -> 64.832348 | F34: 2323 | G34: =C34+E34+F34 -> 39847.832
A35: TV | B35: Pequot | C35: 0 | D35: =C35/$C$84 -> 0 | E35: =$E$2*D35 -> 0 | F35: =C35+E35 -> 0 | G35: =C35+E35+F35 -> 0
A36: TV | B36: Pequot AS | C36: 18844 | D36: =C36/$C$84 -> 0.0096461031 | E36: =$E$2*D36 -> 32.613475 | F36: 935 | G36: =C36+E36+F36 -> 19811.613
A37: TV | B37: Poarch Creek | C37: 0 | D37: =C37/$C$84 -> 0 | E37: =$E$2*D37 -> 0 | F37: =C37+E37 -> 0 | G37: =C37+E37+F37 -> 0
A38: TV | B38: Poarch Creek AS | C38: 45893 | D38: =C38/$C$84 -> 0.023492284 | E38: =$E$2*D38 -> 79.427414 | F38: 2846 | G38: =C38+E38+F38 -> 48818.427
A39: TV | B39: Seminole | C39: 0 | D39: =C39/$C$84 -> 0 | E39: =$E$2*D39 -> 0 | F39: =C39+E39 -> 0 | G39: =C39+E39+F39 -> 0
A40: TV | B40: Seminole AS | C40: 87897 | D40: =C40/$C$84 -> 0.044993819 | E40: =$E$2*D40 -> 152.1241 | F40: 5451 | G40: =C40+E40+F40 -> 93500.124
...

Sheet Area Shares - by PFSA Summary
A1: 2023 Nashvile Area Services Shares by PFSA
C3: ='H&C'!B6 -> Ala. Coushatta AS | D3: ='H&C'!B50 -> Aquinnah AS | E3: ='H&C'!B54 -> Catawba AS | F3: ='H&C'!B8 -> Cayuga AS | G3: ='H&C'!B10 -> Cherokee AS | H3: ='H&C'!B80 -> Chickahominy AS | I3: ='H&C'!B78 -> Chickahominy-Eastern AS | J3: ='H&C'!B12 -> Chitimacha AS | K3: ='H&C'!B14 -> Choctaw AS | L3: ='H&C'!B16 -> Coushatta AS | M3: ='H&C'!B18 -> Jena Band AS | N3: ='H&C'!B20 -> Maliseets AS | O3: ='H&C'!B60 -> Mashpee AS | P3: ='H&C'!B22 -> Miccosukee AS | Q3: ='H&C'!B48 -> Micmac AS | R3: ='H&C'!B24 -> Mohegan AS | S3: ='H&C'!B70 -> Monacan AS | T3: ='H&C'!B74 -> Nansemond AS | U3: ='H&C'!B26 -> Narragansett AS | V3: Oneida AS | W3: ='H&C'!B56 -> Onondaga AS | X3: ='H&C'!B68 -> Pamunkey AS | Y3: ='H&C'!B30 -> PIT AS | Z3: ='H&C'!B32 -> PPP AS | AA3: ='H&C'!B34 -> Penobscot AS | AB3: ='H&C'!B36 -> Pequot AS | AC3: ='H&C'!B38 -> Poarch Creek AS | AD3: ='H&C'!B72 -> Rappahannock AS | AE3: ='H&C'!B40 -> Seminole AS | AF3: ='H&C'!B42 -> Seneca AS | AG3: ='H&C'!B44 -> St. Regis AS | AH3: ='H&C'!B64 -> Shinnecock AS | AI3: ='H&C'!B66 -> Tonawanda AS | AJ3: ='H&C'!B46 -> Tunica Biloxi AS | AK3: ='H&C'!B62 -> Tuscarora AS | AL3: ='H&C'!B76 -> Upper Mattaponi AS
A4: HOSPITALS & CLINICS
